BEGIN:VCALENDAR
VERSION:2.0
PRODID:-//Cochenille Design Studio - ECPv5.1.4//NONSGML v1.0//EN
CALSCALE:GREGORIAN
METHOD:PUBLISH
X-WR-CALNAME:Cochenille Design Studio
X-ORIGINAL-URL:https://www.cochenille.com
X-WR-CALDESC:Events for Cochenille Design Studio
BEGIN:VTIMEZONE
TZID:UTC
BEGIN:STANDARD
TZOFFSETFROM:+0000
TZOFFSETTO:+0000
TZNAME:UTC
DTSTART:20160101T000000
END:STANDARD
END:VTIMEZONE
BEGIN:VEVENT
DTSTART;TZID=UTC:20160321T090000
DTEND;TZID=UTC:20160321T100000
DTSTAMP:20260422T201243
CREATED:20160301T071326Z
LAST-MODIFIED:20160303T032319Z
UID:2591-1458550800-1458554400@www.cochenille.com
SUMMARY:20 Pattern Guidelines
DESCRIPTION:DATE CHANGE TO Monday March 21st at 9am \nIf you alter or create your own patterns\, then it’s time you increase your knowledge of pattern rules that professionals know and understand. In the class you will see how simple it can be…if you understand the basics. Study the anatomy of a pattern\, learn how to change it properly and how to relate ease to fit. Garment Designer will be used to demonstrate examples. \n
URL:https://www.cochenille.com/event/20-pattern-guidelines/
LOCATION:GoToMeeting\, CA\, United States
CATEGORIES:Webinars
ORGANIZER;CN="Susan%20Lazear":MAILTO:info@cochenille.com
END:VEVENT
END:VCALENDAR