BEGIN:VCALENDAR
VERSION:2.0
PRODID:-//Cochenille Design Studio - ECPv5.1.4//NONSGML v1.0//EN
CALSCALE:GREGORIAN
METHOD:PUBLISH
X-WR-CALNAME:Cochenille Design Studio
X-ORIGINAL-URL:https://www.cochenille.com
X-WR-CALDESC:Events for Cochenille Design Studio
BEGIN:VTIMEZONE
TZID:America/Tijuana
BEGIN:DAYLIGHT
TZOFFSETFROM:-0800
TZOFFSETTO:-0700
TZNAME:PDT
DTSTART:20180311T100000
END:DAYLIGHT
BEGIN:STANDARD
TZOFFSETFROM:-0700
TZOFFSETTO:-0800
TZNAME:PST
DTSTART:20181104T090000
END:STANDARD
END:VTIMEZONE
BEGIN:VEVENT
DTSTART;TZID=America/Tijuana:20180918T150000
DTEND;TZID=America/Tijuana:20180918T160000
DTSTAMP:20260425T140501
CREATED:20180911T225511Z
LAST-MODIFIED:20180911T225511Z
UID:4603-1537282800-1537286400@www.cochenille.com
SUMMARY:3 Garments 3 Patterns Webinar
DESCRIPTION:3 Garments 3 Patterns Webinar\n3 Garments 3 Patterns Webinar will use three sources of inspiration; a store window\, an actual garment\, and a magazine clipping\, Susan will walk you through the steps analysis and then building the pattern in Garment Designer. Non-traditional styles will be chosen in order for you to see how one can push the edge a little and use the creative functions of Garment Designer. \nFor those who have not yet attended\, a webinar is a 60 to 70 minute online class to include Lecture\, Question & Answer and PDF Handouts for personal use. This is a live class and cannot be viewed later if purchased. \nWebinars need a minimum of three participants to host. If we do not meet this minimum the webinar will be cancelled two days prior\, so be sure to register early. \nAfter registration\, we will contact you with the meeting information. \nWebinars  will be available to review for attendees who sign up prior to the scheduled webinar but are unable to attend at that time. The video will be completely unedited\, directly from the webinar meeting. It will be available for three days after the webinar is hosted. You must sign up prior to the scheduled date. \n
URL:https://www.cochenille.com/event/3-garments-3-patterns-webinar/
LOCATION:GoToMeeting\, CA\, United States
CATEGORIES:Webinars
END:VEVENT
END:VCALENDAR