BEGIN:VCALENDAR
VERSION:2.0
PRODID:-//Cochenille Design Studio - ECPv5.1.4//NONSGML v1.0//EN
CALSCALE:GREGORIAN
METHOD:PUBLISH
X-WR-CALNAME:Cochenille Design Studio
X-ORIGINAL-URL:https://www.cochenille.com
X-WR-CALDESC:Events for Cochenille Design Studio
BEGIN:VTIMEZONE
TZID:UTC
BEGIN:STANDARD
TZOFFSETFROM:+0000
TZOFFSETTO:+0000
TZNAME:UTC
DTSTART:20160101T000000
END:STANDARD
END:VTIMEZONE
BEGIN:VEVENT
DTSTART;TZID=UTC:20160111T150000
DTEND;TZID=UTC:20160111T160000
DTSTAMP:20260425T155134
CREATED:20160105T033020Z
LAST-MODIFIED:20160105T034237Z
UID:2396-1452524400-1452528000@www.cochenille.com
SUMMARY:Facing Alternatives
DESCRIPTION:This webinar will share various sewing techniques that one can use in lieu of the standard facing. Susan has combed store windows around the world for various ideas and then translated them to how they should be sewn. Be inspired by European fashions\, and learn how to recreate the technique on your sewing machine. \n
URL:https://www.cochenille.com/event/facing-alternatives/
LOCATION:GoToMeeting\, CA\, United States
CATEGORIES:Webinars
ORGANIZER;CN="Susan%20Lazear":MAILTO:info@cochenille.com
END:VEVENT
END:VCALENDAR