BEGIN:VCALENDAR
VERSION:2.0
PRODID:-//Cochenille Design Studio - ECPv5.1.4//NONSGML v1.0//EN
CALSCALE:GREGORIAN
METHOD:PUBLISH
X-WR-CALNAME:Cochenille Design Studio
X-ORIGINAL-URL:https://www.cochenille.com
X-WR-CALDESC:Events for Cochenille Design Studio
BEGIN:VTIMEZONE
TZID:UTC
BEGIN:STANDARD
TZOFFSETFROM:+0000
TZOFFSETTO:+0000
TZNAME:UTC
DTSTART:20160101T000000
END:STANDARD
END:VTIMEZONE
BEGIN:VEVENT
DTSTART;TZID=UTC:20160415T150000
DTEND;TZID=UTC:20160415T160000
DTSTAMP:20260422T182647
CREATED:20160413T024610Z
LAST-MODIFIED:20160413T024610Z
UID:2688-1460732400-1460736000@www.cochenille.com
SUMMARY:From Fashion Windows to Actual Garment
DESCRIPTION:From Fashion Windows to Actual Garment\nFriday\, April 15th\, 2016 at 3 p.m. PDT \nIn this webinar\, Susan will walk through the process of interpreting fashions you see in store windows\, online or elsewhere and building the pattern in Garment Designer. A series of different garments will be shown and used in this workshop. You will learn how to interpret and how to creatively use your software. \n
URL:https://www.cochenille.com/event/fashion-windows-actual-garment/
LOCATION:GoToMeeting\, CA\, United States
CATEGORIES:Webinars
ORGANIZER;CN="Susan%20Lazear":MAILTO:info@cochenille.com
END:VEVENT
END:VCALENDAR