BEGIN:VCALENDAR
VERSION:2.0
PRODID:-//Cochenille Design Studio - ECPv5.1.4//NONSGML v1.0//EN
CALSCALE:GREGORIAN
METHOD:PUBLISH
X-WR-CALNAME:Cochenille Design Studio
X-ORIGINAL-URL:https://www.cochenille.com
X-WR-CALDESC:Events for Cochenille Design Studio
BEGIN:VTIMEZONE
TZID:America/Tijuana
BEGIN:DAYLIGHT
TZOFFSETFROM:-0800
TZOFFSETTO:-0700
TZNAME:PDT
DTSTART:20210314T100000
END:DAYLIGHT
BEGIN:STANDARD
TZOFFSETFROM:-0700
TZOFFSETTO:-0800
TZNAME:PST
DTSTART:20211107T090000
END:STANDARD
END:VTIMEZONE
BEGIN:VEVENT
DTSTART;TZID=America/Tijuana:20210425T130000
DTEND;TZID=America/Tijuana:20210425T140000
DTSTAMP:20260420T183544
CREATED:20210421T184046Z
LAST-MODIFIED:20210421T184046Z
UID:14883-1619355600-1619359200@www.cochenille.com
SUMMARY:Free Lecture: Fashion and Sustainability
DESCRIPTION:Susan Lazear of Cochenille Design Studio will present a lecture on Fashion on Sustainability this coming Sunday. This is based on her TedTalkX lecture she gave two years ago. \nSustainable Fashion Sweater\n Fashion and Sustainability\nSun\, Apr 25\, 2021 1:00 PM – 2:00 PM (PDT) \n Please join my meeting from your computer\, tablet or smartphone. \n https://global.gotomeeting.com/join/761399805  \nYou can also dial in using your phone.\nUnited States: +1 (872) 240-3212 \nAccess Code: 761-399-805 \nNew to GoToMeeting? Get the app now and be ready when your first meeting starts: https://global.gotomeeting.com/install/761399805 \n
URL:https://www.cochenille.com/event/free-lecture-fashion-and-sustainability/
LOCATION:GoToMeeting\, CA\, United States
CATEGORIES:Webinars
END:VEVENT
END:VCALENDAR