BEGIN:VCALENDAR
VERSION:2.0
PRODID:-//Cochenille Design Studio - ECPv5.1.4//NONSGML v1.0//EN
CALSCALE:GREGORIAN
METHOD:PUBLISH
X-WR-CALNAME:Cochenille Design Studio
X-ORIGINAL-URL:https://www.cochenille.com
X-WR-CALDESC:Events for Cochenille Design Studio
BEGIN:VTIMEZONE
TZID:UTC
BEGIN:STANDARD
TZOFFSETFROM:+0000
TZOFFSETTO:+0000
TZNAME:UTC
DTSTART:20160101T000000
END:STANDARD
END:VTIMEZONE
BEGIN:VEVENT
DTSTART;TZID=UTC:20161130T160000
DTEND;TZID=UTC:20161130T170000
DTSTAMP:20260419T222626
CREATED:20161101T033816Z
LAST-MODIFIED:20161101T035113Z
UID:2996-1480521600-1480525200@www.cochenille.com
SUMMARY:Garment Designer: Did you know? (Part 2)
DESCRIPTION:This webinar is a continuation of “Garment Designer\, Did you Know\nPart 1”. It presents a list of things about Garment Designer that many\npeople don’t always know. Test your knowledge and increase your awareness\nabout using the software. \n
URL:https://www.cochenille.com/event/garment-designer-know-part-2/
LOCATION:GoToMeeting\, CA\, United States
CATEGORIES:Webinars
ORGANIZER;CN="Susan%20Lazear":MAILTO:info@cochenille.com
END:VEVENT
END:VCALENDAR