BEGIN:VCALENDAR
VERSION:2.0
PRODID:-//Cochenille Design Studio - ECPv5.1.4//NONSGML v1.0//EN
CALSCALE:GREGORIAN
METHOD:PUBLISH
X-WR-CALNAME:Cochenille Design Studio
X-ORIGINAL-URL:https://www.cochenille.com
X-WR-CALDESC:Events for Cochenille Design Studio
BEGIN:VTIMEZONE
TZID:America/Tijuana
BEGIN:DAYLIGHT
TZOFFSETFROM:-0800
TZOFFSETTO:-0700
TZNAME:PDT
DTSTART:20150308T100000
END:DAYLIGHT
BEGIN:STANDARD
TZOFFSETFROM:-0700
TZOFFSETTO:-0800
TZNAME:PST
DTSTART:20151101T090000
END:STANDARD
END:VTIMEZONE
BEGIN:VEVENT
DTSTART;TZID=America/Tijuana:20150410T150000
DTEND;TZID=America/Tijuana:20150410T160000
DTSTAMP:20260420T025123
CREATED:20150408T142504Z
LAST-MODIFIED:20150408T142504Z
UID:1404-1428678000-1428681600@www.cochenille.com
SUMMARY:Moving From Garment Designer to Stitch Painter
DESCRIPTION:This webinar will show you how to create styles in Garment Designer and\nmove them into Stitch Painter for stitch design work. Various techniques\nwill be covered including top-down work\, engineered designs\, etc. \n
URL:https://www.cochenille.com/event/moving-from-garment-designer-to-stitch-painter/
LOCATION:GoToMeeting\, CA\, United States
CATEGORIES:Webinars
ORGANIZER;CN="Susan%20Lazear":MAILTO:info@cochenille.com
END:VEVENT
END:VCALENDAR