BEGIN:VCALENDAR
VERSION:2.0
PRODID:-//Cochenille Design Studio - ECPv5.1.4//NONSGML v1.0//EN
CALSCALE:GREGORIAN
METHOD:PUBLISH
X-WR-CALNAME:Cochenille Design Studio
X-ORIGINAL-URL:https://www.cochenille.com
X-WR-CALDESC:Events for Cochenille Design Studio
BEGIN:VTIMEZONE
TZID:UTC
BEGIN:STANDARD
TZOFFSETFROM:+0000
TZOFFSETTO:+0000
TZNAME:UTC
DTSTART:20200101T000000
END:STANDARD
END:VTIMEZONE
BEGIN:VEVENT
DTSTART;TZID=UTC:20200424T100000
DTEND;TZID=UTC:20200424T113000
DTSTAMP:20260425T184213
CREATED:20170203T064055Z
LAST-MODIFIED:20200403T175049Z
UID:3139-1587722400-1587727800@www.cochenille.com
SUMMARY:Pants\, Pants – Measuring and Working Towards a Better Fit - UPDATED
DESCRIPTION:Pants\, Pants – Measuring and Working Towards a Better Fit – UPDATED\nFriday\, April 24th\, 10 a.m. Pacific Time\nIf fitting pants is your challenge; this webinar will help you learn how to measure your favorite pants\, and your body to assist you in creating a better pattern and pants that fit. Then\, learn how to use the right sequence in Garment Designer to build the pattern you need. Learn what pattern changes address different fit problems in pants. Let’s take some of the mystery out of the process\, and get you closer to your perfect pant pattern. \nWebinars are 60 to 70 minute classes. They include: \n\nA handout prior to the lecture\nThe online class with a full lecture and demonstration.\nThe ability to ask questions and get answers (Live webinar only)\nA PDF copy of the PowerPoint after the class (for personal use only)\nThe ability to view a recording of the webinar for 72 hours after the webinar\n\nIf you have never attended a webinar before and would like more information on what is involved\, please feel free to contact us. \n*Webinars need a minimum of three participants to host. If we do not meet this minimum the webinar will be cancelled two days prior\, so be sure to register early. \nCan’t make it to the scheduled time? No worries! Sign up and watch it later. \nWe will have the webinars available to review for attendees who sign up prior to the scheduled webinar\, but are unable to attend at that time. The video will be completely unedited\, directly from the webinar meeting. It will be available to review for three days after the webinar is hosted\, and you will still receive the handouts. You will still receive all handouts. \n
URL:https://www.cochenille.com/event/pants-pants-measuring-and-working-towards-a-better-fit/
LOCATION:GoToMeeting\, CA\, United States
CATEGORIES:Webinars
END:VEVENT
END:VCALENDAR