BEGIN:VCALENDAR
VERSION:2.0
PRODID:-//Cochenille Design Studio - ECPv5.1.4//NONSGML v1.0//EN
CALSCALE:GREGORIAN
METHOD:PUBLISH
X-WR-CALNAME:Cochenille Design Studio
X-ORIGINAL-URL:https://www.cochenille.com
X-WR-CALDESC:Events for Cochenille Design Studio
BEGIN:VTIMEZONE
TZID:UTC
BEGIN:STANDARD
TZOFFSETFROM:+0000
TZOFFSETTO:+0000
TZNAME:UTC
DTSTART:20160101T000000
END:STANDARD
END:VTIMEZONE
BEGIN:VEVENT
DTSTART;TZID=UTC:20160314T090000
DTEND;TZID=UTC:20160314T100000
DTSTAMP:20260422T220145
CREATED:20160301T072946Z
LAST-MODIFIED:20160301T072946Z
UID:2593-1457946000-1457949600@www.cochenille.com
SUMMARY:Stitch Painter: From Photo to Design
DESCRIPTION:Learn how to take full advantage of the Full Color Import module of Stitch Painter. In this webinar. You will learn the basic steps of taking a photo or clip art image and brining it into Stitch Painter. Grid it\, pull a color palette\, or simply use the color proportions as a guide for good design. Susan will walk you through multiple uses of this great tool. You’ll also learn how to utilize some of the new features of Stitch Painter 3. \n
URL:https://www.cochenille.com/event/stitch-painter-photo-design/
LOCATION:GoToMeeting\, CA\, United States
CATEGORIES:Webinars
ORGANIZER;CN="Susan%20Lazear":MAILTO:info@cochenille.com
END:VEVENT
END:VCALENDAR