BEGIN:VCALENDAR
VERSION:2.0
PRODID:-//Cochenille Design Studio - ECPv5.1.4//NONSGML v1.0//EN
CALSCALE:GREGORIAN
METHOD:PUBLISH
X-WR-CALNAME:Cochenille Design Studio
X-ORIGINAL-URL:https://www.cochenille.com
X-WR-CALDESC:Events for Cochenille Design Studio
BEGIN:VTIMEZONE
TZID:America/Tijuana
BEGIN:DAYLIGHT
TZOFFSETFROM:-0800
TZOFFSETTO:-0700
TZNAME:PDT
DTSTART:20210314T100000
END:DAYLIGHT
BEGIN:STANDARD
TZOFFSETFROM:-0700
TZOFFSETTO:-0800
TZNAME:PST
DTSTART:20211107T090000
END:STANDARD
END:VTIMEZONE
BEGIN:VEVENT
DTSTART;TZID=America/Tijuana:20210717T130000
DTEND;TZID=America/Tijuana:20210717T143000
DTSTAMP:20260424T192554
CREATED:20210708T004458Z
LAST-MODIFIED:20210713T232258Z
UID:15043-1626526800-1626532200@www.cochenille.com
SUMMARY:Webinar: Armhole-Sleeve Relationship
DESCRIPTION:Saturday\, July 17th\, 2021 1 pm PT\nWeb-112.  More Info \nIf you alter/fit patterns\, or want to draft them ‘from scratch’\, Susan will teach you the basics of armhole and sleeve combinations.  Understand how changes made to the armhole affect the sleeve and enjoy learning how to draft/create a multitude of sleeve styles. Garment Designer will be used to demonstrate examples. \n
URL:https://www.cochenille.com/event/webinar-armhole-sleeve-relationship/
LOCATION:GoToMeeting\, CA\, United States
CATEGORIES:Online Class,Webinars
END:VEVENT
END:VCALENDAR