BEGIN:VCALENDAR
VERSION:2.0
PRODID:-//Cochenille Design Studio - ECPv5.1.4//NONSGML v1.0//EN
CALSCALE:GREGORIAN
METHOD:PUBLISH
X-WR-CALNAME:Cochenille Design Studio
X-ORIGINAL-URL:https://www.cochenille.com
X-WR-CALDESC:Events for Cochenille Design Studio
BEGIN:VTIMEZONE
TZID:America/Tijuana
BEGIN:DAYLIGHT
TZOFFSETFROM:-0800
TZOFFSETTO:-0700
TZNAME:PDT
DTSTART:20210314T100000
END:DAYLIGHT
BEGIN:STANDARD
TZOFFSETFROM:-0700
TZOFFSETTO:-0800
TZNAME:PST
DTSTART:20211107T090000
END:STANDARD
END:VTIMEZONE
BEGIN:VEVENT
DTSTART;TZID=America/Tijuana:20211208T130000
DTEND;TZID=America/Tijuana:20211208T143000
DTSTAMP:20260422T153448
CREATED:20211204T013711Z
LAST-MODIFIED:20211204T013711Z
UID:15209-1638968400-1638973800@www.cochenille.com
SUMMARY:Webinar: Fitting Points with Garment Designer
DESCRIPTION:Fitting Points with Garment Designer \nWednesday\, Dec. 8\, 2021\, 1 p.m.  PT\nWeb-146  More Info\nhttps://shop.cochenille.com/collections/webinars-online/products/fitting-points-in-garment-designer \n  \nThis webinar will take you on a tour of the various ways you can achieve ‘fit’ in Garment Designer. We will explore the use of Darts (bodice and bottoms)\, Princess Lines\, Contoured Styles\, Dart Equivalents\, and the use of Ease. In addition we will address some fitting issues such as rounded back\, forward shoulders\, non-symmetrical bodies\, and approaches to dealing with them. \n  \n
URL:https://www.cochenille.com/event/webinar-fitting-points-with-garment-designer-2/
LOCATION:GoToMeeting\, CA\, United States
CATEGORIES:Online Class,Webinars
END:VEVENT
END:VCALENDAR