BEGIN:VCALENDAR
VERSION:2.0
PRODID:-//Cochenille Design Studio - ECPv5.1.4//NONSGML v1.0//EN
CALSCALE:GREGORIAN
METHOD:PUBLISH
X-WR-CALNAME:Cochenille Design Studio
X-ORIGINAL-URL:https://www.cochenille.com
X-WR-CALDESC:Events for Cochenille Design Studio
BEGIN:VTIMEZONE
TZID:America/Tijuana
BEGIN:DAYLIGHT
TZOFFSETFROM:-0800
TZOFFSETTO:-0700
TZNAME:PDT
DTSTART:20250309T100000
END:DAYLIGHT
BEGIN:STANDARD
TZOFFSETFROM:-0700
TZOFFSETTO:-0800
TZNAME:PST
DTSTART:20251102T090000
END:STANDARD
END:VTIMEZONE
BEGIN:VEVENT
DTSTART;TZID=America/Tijuana:20251105T110000
DTEND;TZID=America/Tijuana:20251105T123000
DTSTAMP:20260423T134814
CREATED:20240104T012105Z
LAST-MODIFIED:20251103T222006Z
UID:15635-1762340400-1762345800@www.cochenille.com
SUMMARY:Webinar: Let's Make a Vest
DESCRIPTION:Let’s Make a Vest\nWednesday\, November 5th\, 2025       11 a.m. \nWeb-153 \nInspiration and Pattern\nLet’s Make a Vest will feature the development of a vest\, which we define as a sleeveless top to be worn over another garment. This is appropriate for both sewers and knitters. Topics will cover design considerations\, fabric/yarn choice\, appropriate styles in Garment Designer\, the sequence of steps in building the pattern and the option of darts. You will also learn how to add the additional pattern parts such as a collar\, front extension\, facings or bands\, and pockets. Design and construction tips will be included as well as inspirational ideas. The goal is that you will understand the process so you can create your own unique vest pattern with success. \nClick here to purchase\, \nIf you sign up\, please check your SPAM folder for the webinar invitation as often browsers divert our emails there (due to an attachment and URL link). \n>>> \nNo Need to be Present Live! \nWe’ve listened to your feedback and will have the webinars available to review for attendees who sign up prior to the scheduled webinar but are unable to attend at that time. The video will be completely unedited\, directly from the webinar meeting. It will be available for two weeks after the webinar is hosted. \nWhat do you get with a Webinar?: \nOnline webinar (60 – 70 minutes) (or access to the recording if you can’t attend) \n\nHandout in Advance\nAccess for two weeks after the webinar to review the video\nPDF of the PowerPoint lecture (for personal use)\n15% discount code for Cochenille Products (excluding software upgrades\, Retreats/Workshops and webinars)\nWebinars need a minimum of three participants to host. If we do not meet this minimum\, the webinar will be canceled two days prior\, so be sure to register early.\n\nAfter registration\, we will email you with the webinar invite and handout\, one day prior to the scheduled time. Following the webinar\, you will receive a link to the video recording and a PDF copy of the PowerPoint. \n
URL:https://www.cochenille.com/event/webinar-lets-make-a-vest-2/
LOCATION:GoToMeeting\, CA\, United States
CATEGORIES:Online Class,Webinars
END:VEVENT
END:VCALENDAR