BEGIN:VCALENDAR
VERSION:2.0
PRODID:-//Cochenille Design Studio - ECPv5.1.4//NONSGML v1.0//EN
CALSCALE:GREGORIAN
METHOD:PUBLISH
X-WR-CALNAME:Cochenille Design Studio
X-ORIGINAL-URL:https://www.cochenille.com
X-WR-CALDESC:Events for Cochenille Design Studio
BEGIN:VTIMEZONE
TZID:America/Tijuana
BEGIN:DAYLIGHT
TZOFFSETFROM:-0800
TZOFFSETTO:-0700
TZNAME:PDT
DTSTART:20220313T100000
END:DAYLIGHT
BEGIN:STANDARD
TZOFFSETFROM:-0700
TZOFFSETTO:-0800
TZNAME:PST
DTSTART:20221106T090000
END:STANDARD
END:VTIMEZONE
BEGIN:VEVENT
DTSTART;TZID=America/Tijuana:20220331T130000
DTEND;TZID=America/Tijuana:20220331T143000
DTSTAMP:20260424T093329
CREATED:20220305T025043Z
LAST-MODIFIED:20220305T025043Z
UID:15282-1648731600-1648737000@www.cochenille.com
SUMMARY:Webinar: Let's Make Childrenswear with (Garment Designer). ** NEW
DESCRIPTION:Let’s Make Childrenswear with (Garment Designer). ** NEW\nThursday\, March 31st\, 1 pm PT\nWeb-160\nhttps://shop.cochenille.com/collections/webinars-online/products/webinar-lets-make-childrenswear-with-garment-designer \nWe all have a small one in our lives\, who it would be a pleasure to create garments for. So\, let’s take a look at the process of designing clothing for children. Whether you intend to sew or knit\, the design process is generally the same. Let’s explore garment styles and inspirations currently favored by  childrenswear brands and take into account a bit of functionality for design\, style\, and growing bodies. Some sewing and knitting discussion will complete the picture and get your rolling to creating. \n
URL:https://www.cochenille.com/event/webinar-lets-make-childrenswear-with-garment-designer-new/
LOCATION:GoToMeeting\, CA\, United States
CATEGORIES:Online Class,Webinars
END:VEVENT
END:VCALENDAR