BEGIN:VCALENDAR
VERSION:2.0
PRODID:-//Cochenille Design Studio - ECPv5.1.4//NONSGML v1.0//EN
CALSCALE:GREGORIAN
METHOD:PUBLISH
X-WR-CALNAME:Cochenille Design Studio
X-ORIGINAL-URL:https://www.cochenille.com
X-WR-CALDESC:Events for Cochenille Design Studio
BEGIN:VTIMEZONE
TZID:America/Tijuana
BEGIN:DAYLIGHT
TZOFFSETFROM:-0800
TZOFFSETTO:-0700
TZNAME:PDT
DTSTART:20210314T100000
END:DAYLIGHT
BEGIN:STANDARD
TZOFFSETFROM:-0700
TZOFFSETTO:-0800
TZNAME:PST
DTSTART:20211107T090000
END:STANDARD
END:VTIMEZONE
BEGIN:VEVENT
DTSTART;TZID=America/Tijuana:20211026T110000
DTEND;TZID=America/Tijuana:20211026T123000
DTSTAMP:20260425T121649
CREATED:20211011T211042Z
LAST-MODIFIED:20211025T160126Z
UID:15176-1635246000-1635251400@www.cochenille.com
SUMMARY:Webinar: Let's Make Knitwear (Hand or Machine)
DESCRIPTION:Tuesday\, Oct. 26\, 2021    11 a.m.  PT \nWeb-155. More Info \n\nTranslate fashion to your own knitwear patterns!  If you want to create your own patterns with Garment Designer this webinar will teach you various approaches. Learn to work from an existing garment with or without modifications\, and how to translate ready-to-wear knits to your own. Also learn how to look at a non-knit garment\, decide if it is appropriate to transfer to a knit pattern\, and then how to do that. You will be gauge and yarn independent with this skill. Crochet folk who use linear crochet or work to a template can also use the information presented in the webinar. \nDifferent Knit Styles for Consideration in Knitwear Design\n
URL:https://www.cochenille.com/event/webinar-lets-make-knitwear-hand-or-machine/
LOCATION:GoToMeeting\, CA\, United States
CATEGORIES:Design Challenge,Webinars
END:VEVENT
END:VCALENDAR