BEGIN:VCALENDAR
VERSION:2.0
PRODID:-//Cochenille Design Studio - ECPv5.1.4//NONSGML v1.0//EN
CALSCALE:GREGORIAN
METHOD:PUBLISH
X-WR-CALNAME:Cochenille Design Studio
X-ORIGINAL-URL:https://www.cochenille.com
X-WR-CALDESC:Events for Cochenille Design Studio
BEGIN:VTIMEZONE
TZID:America/Tijuana
BEGIN:DAYLIGHT
TZOFFSETFROM:-0800
TZOFFSETTO:-0700
TZNAME:PDT
DTSTART:20200308T100000
END:DAYLIGHT
BEGIN:STANDARD
TZOFFSETFROM:-0700
TZOFFSETTO:-0800
TZNAME:PST
DTSTART:20201101T090000
END:STANDARD
END:VTIMEZONE
BEGIN:VEVENT
DTSTART;TZID=America/Tijuana:20201130T110000
DTEND;TZID=America/Tijuana:20201130T123000
DTSTAMP:20260422T042059
CREATED:20201105T194303Z
LAST-MODIFIED:20201204T195226Z
UID:14591-1606734000-1606739400@www.cochenille.com
SUMMARY:Webinar: Pant Fit Workshop
DESCRIPTION:Monday\, December 07\, 2020\, 11 am PT \nThis webinar is a Pant Fit Workshop and is designed for those who have taken the Pants\, Pants – Measuring and Working Towards a Better Fit webinar recently\, either as part of this series\, or earlier in April 2020 (as the content was updated at that time).  In advance of our meeting\, participants will complete a Fit Analysis worksheet\, then\, draft a pattern in Garment Designer and sew a muslin using the knowledge gained in the first webinar. Then during this Fit Workshop webinar\, fit problems and resolutions will be discussed. They will also be asked to take a front\, back\, and side view photo of their muslin pant to submit in advance if they want feedback.\nRegistration for this webinar is limited due to the nature of the workshop format. \n** Lorraine Henry\, inventor of the Measuring Made Easy tape\, and fit expert will join us in this webinar to provide additional opinion. \nBUY WEBINAR\nPrice: $25.00 \n
URL:https://www.cochenille.com/event/webinar-pant-fit-workshop/
LOCATION:GoToMeeting\, CA\, United States
CATEGORIES:Webinars
END:VEVENT
END:VCALENDAR