BEGIN:VCALENDAR
VERSION:2.0
PRODID:-//Cochenille Design Studio - ECPv5.1.4//NONSGML v1.0//EN
CALSCALE:GREGORIAN
METHOD:PUBLISH
X-WR-CALNAME:Cochenille Design Studio
X-ORIGINAL-URL:https://www.cochenille.com
X-WR-CALDESC:Events for Cochenille Design Studio
BEGIN:VTIMEZONE
TZID:America/Tijuana
BEGIN:DAYLIGHT
TZOFFSETFROM:-0800
TZOFFSETTO:-0700
TZNAME:PDT
DTSTART:20200308T100000
END:DAYLIGHT
BEGIN:STANDARD
TZOFFSETFROM:-0700
TZOFFSETTO:-0800
TZNAME:PST
DTSTART:20201101T090000
END:STANDARD
END:VTIMEZONE
BEGIN:VEVENT
DTSTART;TZID=America/Tijuana:20201024T140000
DTEND;TZID=America/Tijuana:20201024T150000
DTSTAMP:20260423T101758
CREATED:20201008T205206Z
LAST-MODIFIED:20201008T205206Z
UID:14525-1603548000-1603551600@www.cochenille.com
SUMMARY:Webinar: Smarty Pants: Patterning Atypical Pants in Garment Designer
DESCRIPTION:Saturday\, Oct. 24th\, 2020\, 2 p.m. PT \nIn this Webinar Susan will show you how to think outside of the box while patterning non-traditional pants in Garment Designer. Learn new and creative ways to achieve funky styles when patterning in Garment Designer with Professor of Fashion Design and owner of Cochenille\, Susan Lazear\, as your guide. Leggings without side seams\, bohemian style-pants and other atypical bottom variations will be discussed. \nOnline order information:\nBUY WEBINAR\nPrice: $25.00 \n
URL:https://www.cochenille.com/event/webinar-smarty-pants-patterning-atypical-pants-in-garment-designer/
LOCATION:GoToMeeting\, CA\, United States
CATEGORIES:Webinars
END:VEVENT
END:VCALENDAR