BEGIN:VCALENDAR
VERSION:2.0
PRODID:-//Cochenille Design Studio - ECPv5.1.4//NONSGML v1.0//EN
CALSCALE:GREGORIAN
METHOD:PUBLISH
X-WR-CALNAME:Cochenille Design Studio
X-ORIGINAL-URL:https://www.cochenille.com
X-WR-CALDESC:Events for Cochenille Design Studio
BEGIN:VTIMEZONE
TZID:America/Tijuana
BEGIN:DAYLIGHT
TZOFFSETFROM:-0800
TZOFFSETTO:-0700
TZNAME:PDT
DTSTART:20200308T100000
END:DAYLIGHT
BEGIN:STANDARD
TZOFFSETFROM:-0700
TZOFFSETTO:-0800
TZNAME:PST
DTSTART:20201101T090000
END:STANDARD
END:VTIMEZONE
BEGIN:VEVENT
DTSTART;TZID=America/Tijuana:20200721T170000
DTEND;TZID=America/Tijuana:20200721T183000
DTSTAMP:20260423T101002
CREATED:20200706T214040Z
LAST-MODIFIED:20200706T215052Z
UID:14426-1595350800-1595356200@www.cochenille.com
SUMMARY:Webinar: What Happened to my Waist?   Updated
DESCRIPTION:Tuesday\, 7/21/20 – 5 p.m.. PT \nHas your waist changed and you now have bottoms you can’t wear? Or\, does your weight fluctuate and you want to design clothing that allows for this? This webinar focuses on creative techniques of altering existing garments or plan new ones to allow for ‘flexible waists’. Garment Designer tips and techniques will be given. \nOnline order information: \nItem #: Web-133 \nDescription: Combining Knits/Crochet with Fabric \nBUY WEBINAR\nPrice: $25.00 \n
URL:https://www.cochenille.com/event/webinar-what-happened-to-my-waist-updated/
LOCATION:GoToMeeting\, CA\, United States
CATEGORIES:Webinars
END:VEVENT
END:VCALENDAR