BEGIN:VCALENDAR
VERSION:2.0
PRODID:-//Cochenille Design Studio - ECPv5.1.4//NONSGML v1.0//EN
CALSCALE:GREGORIAN
METHOD:PUBLISH
X-WR-CALNAME:Cochenille Design Studio
X-ORIGINAL-URL:https://www.cochenille.com
X-WR-CALDESC:Events for Cochenille Design Studio
BEGIN:VTIMEZONE
TZID:UTC
BEGIN:STANDARD
TZOFFSETFROM:+0000
TZOFFSETTO:+0000
TZNAME:UTC
DTSTART:20150101T000000
END:STANDARD
END:VTIMEZONE
BEGIN:VEVENT
DTSTART;TZID=UTC:20151214T150000
DTEND;TZID=UTC:20151214T160000
DTSTAMP:20260425T191934
CREATED:20151205T080816Z
LAST-MODIFIED:20151205T080816Z
UID:2378-1450105200-1450108800@www.cochenille.com
SUMMARY:Webinar-Working with the Extras Menu in Garment Designer
DESCRIPTION:Increase your knowledge of Garment Designer to add style\, functionality or advance your pattern skills. Learn how to apply Collars\, Cuffs\, Pockets\, Edgings and Generic Shapes to your patterns. In Addition we will explore unique ways of using the symmetry function. \n
URL:https://www.cochenille.com/event/webinar-working-with-the-extras-menu-in-garment-designer/
LOCATION:GoToMeeting\, CA\, United States
CATEGORIES:Webinars
ORGANIZER;CN="Susan%20Lazear":MAILTO:info@cochenille.com
END:VEVENT
END:VCALENDAR