BEGIN:VCALENDAR
VERSION:2.0
PRODID:-//Cochenille Design Studio - ECPv5.1.4//NONSGML v1.0//EN
CALSCALE:GREGORIAN
METHOD:PUBLISH
X-WR-CALNAME:Cochenille Design Studio
X-ORIGINAL-URL:https://www.cochenille.com
X-WR-CALDESC:Events for Cochenille Design Studio
BEGIN:VTIMEZONE
TZID:America/Tijuana
BEGIN:DAYLIGHT
TZOFFSETFROM:-0800
TZOFFSETTO:-0700
TZNAME:PDT
DTSTART:20200308T100000
END:DAYLIGHT
BEGIN:STANDARD
TZOFFSETFROM:-0700
TZOFFSETTO:-0800
TZNAME:PST
DTSTART:20201101T090000
END:STANDARD
END:VTIMEZONE
BEGIN:VEVENT
DTSTART;TZID=America/Tijuana:20201215T140000
DTEND;TZID=America/Tijuana:20201215T153000
DTSTAMP:20260423T013910
CREATED:20201204T195849Z
LAST-MODIFIED:20201204T195849Z
UID:14622-1608040800-1608046200@www.cochenille.com
SUMMARY:Webinar:Working Creatively with the Symmetry Function in Garment Designer
DESCRIPTION:Tuesday\, December 15\, 2020 2 pm PT\nThe Symmetry function in Garment Designer is a powerful feature to use when designing patterns. Susan will help you understand how to use symmetry effectively and creatively so that you can get the most out of this feature. You will learn the difference between Mirror and Give/Take symmetries\, and the best approaches to use when designing. You will see Susan build multiple fashion garments using the Symmetry function to its fuller. By the end\, you should feel more confident to use this incredible tool for both design and fit. \nBUY WEBINAR\nPrice: $25.00 \n
URL:https://www.cochenille.com/event/webinarworking-creatively-with-the-symmetry-function-in-garment-designer/
LOCATION:GoToMeeting\, CA\, United States
CATEGORIES:Webinars
END:VEVENT
END:VCALENDAR